BEGIN:VCALENDAR
VERSION:2.0
PRODID:-//Reddingboot Gebroeders Luden - ECPv6.15.17.1//NONSGML v1.0//EN
CALSCALE:GREGORIAN
METHOD:PUBLISH
X-WR-CALNAME:Reddingboot Gebroeders Luden
X-ORIGINAL-URL:https://www.gebroeders-luden.nl
X-WR-CALDESC:Evenementen voor Reddingboot Gebroeders Luden
REFRESH-INTERVAL;VALUE=DURATION:PT1H
X-Robots-Tag:noindex
X-PUBLISHED-TTL:PT1H
BEGIN:VTIMEZONE
TZID:Europe/Amsterdam
BEGIN:DAYLIGHT
TZOFFSETFROM:+0100
TZOFFSETTO:+0200
TZNAME:CEST
DTSTART:20250330T010000
END:DAYLIGHT
BEGIN:STANDARD
TZOFFSETFROM:+0200
TZOFFSETTO:+0100
TZNAME:CET
DTSTART:20251026T010000
END:STANDARD
BEGIN:DAYLIGHT
TZOFFSETFROM:+0100
TZOFFSETTO:+0200
TZNAME:CEST
DTSTART:20260329T010000
END:DAYLIGHT
BEGIN:STANDARD
TZOFFSETFROM:+0200
TZOFFSETTO:+0100
TZNAME:CET
DTSTART:20261025T010000
END:STANDARD
BEGIN:DAYLIGHT
TZOFFSETFROM:+0100
TZOFFSETTO:+0200
TZNAME:CEST
DTSTART:20270328T010000
END:DAYLIGHT
BEGIN:STANDARD
TZOFFSETFROM:+0200
TZOFFSETTO:+0100
TZNAME:CET
DTSTART:20271031T010000
END:STANDARD
END:VTIMEZONE
BEGIN:VEVENT
DTSTART;TZID=Europe/Amsterdam:20260522T080000
DTEND;TZID=Europe/Amsterdam:20260525T170000
DTSTAMP:20260424T161111
CREATED:20260201T092050Z
LAST-MODIFIED:20260201T092050Z
UID:5308-1779436800-1779728400@www.gebroeders-luden.nl
SUMMARY:150 jaar Pinksterfeesten Delfzijl
DESCRIPTION:Tijdens de Pinksterfeesten liggen wij in Delfzijl ter bezichtiging. We varen zaterdag 23 mei mee met het Admiraalzeilen in de haven van Delfzijl welke plaats zal vinden v.a. ca. 13.00 uur. Verdere invulling van het programma volgt nog.
URL:https://www.gebroeders-luden.nl/event/150-jaar-pinksterfeesten-delfzijl/
LOCATION:Delfzijl
ATTACH;FMTTYPE=image/jpeg:https://www.gebroeders-luden.nl/wp-content/uploads/2025/11/1000106357.jpg
END:VEVENT
BEGIN:VEVENT
DTSTART;TZID=Europe/Amsterdam:20260621T120000
DTEND;TZID=Europe/Amsterdam:20260621T170000
DTSTAMP:20260424T161111
CREATED:20260201T114815Z
LAST-MODIFIED:20260201T114815Z
UID:5311-1782043200-1782061200@www.gebroeders-luden.nl
SUMMARY:Nationale Historische Reddingbootdag Lelystad
DESCRIPTION:Tijdens de Nationale Historische Reddingbootdag is het mogelijk om met diverse oude reddingboten mee te varen. Ook is er die dag een oldtimerdag. De NHRD wordt georganiseerd door KNRM station Lelystad.
URL:https://www.gebroeders-luden.nl/event/nationale-historische-reddingbootdag-lelystad/
LOCATION:Lelystad\, Bataviahaven 5\, Lelystad
ATTACH;FMTTYPE=image/jpeg:https://www.gebroeders-luden.nl/wp-content/uploads/2026/02/240615_XCN1519-crop.jpg
END:VEVENT
BEGIN:VEVENT
DTSTART;TZID=Europe/Amsterdam:20260912T100000
DTEND;TZID=Europe/Amsterdam:20260912T170000
DTSTAMP:20260424T161111
CREATED:20241004T204143Z
LAST-MODIFIED:20251205T125446Z
UID:4939-1789207200-1789232400@www.gebroeders-luden.nl
SUMMARY:Open Monumentendag
DESCRIPTION:De legendarische reddingboot Gebroeders Luden opent de luiken voor het publiek! Daal af door de mangaten naar de machinekamer\, het bemanningsverblijf en het gereddenverblijf. Ontdek het zelf op zaterdag 12 september 2026 van 10:00 tot 17:00 uur. De Gebroeders Luden ligt dan bij station Lauwersoog\, het KNRM gebouw is ook open voor publiek. Voor alle donateurs en belangstellenden!!
URL:https://www.gebroeders-luden.nl/event/open-dag/
LOCATION:KNRM Lauwersoog
ATTACH;FMTTYPE=image/jpeg:https://www.gebroeders-luden.nl/wp-content/uploads/2025/11/1000106357.jpg
END:VEVENT
END:VCALENDAR